BEGIN:VCALENDAR
VERSION:2.0
PRODID:-//Ligue de Bourgogne-Franche-Comté des Échecs - ECPv6.15.20//NONSGML v1.0//EN
CALSCALE:GREGORIAN
METHOD:PUBLISH
X-WR-CALNAME:Ligue de Bourgogne-Franche-Comté des Échecs
X-ORIGINAL-URL:https://www.echecsbfc.fr
X-WR-CALDESC:Évènements pour Ligue de Bourgogne-Franche-Comté des Échecs
REFRESH-INTERVAL;VALUE=DURATION:PT1H
X-Robots-Tag:noindex
X-PUBLISHED-TTL:PT1H
BEGIN:VTIMEZONE
TZID:Europe/Paris
BEGIN:DAYLIGHT
TZOFFSETFROM:+0100
TZOFFSETTO:+0200
TZNAME:CEST
DTSTART:20220327T010000
END:DAYLIGHT
BEGIN:STANDARD
TZOFFSETFROM:+0200
TZOFFSETTO:+0100
TZNAME:CET
DTSTART:20221030T010000
END:STANDARD
BEGIN:DAYLIGHT
TZOFFSETFROM:+0100
TZOFFSETTO:+0200
TZNAME:CEST
DTSTART:20230326T010000
END:DAYLIGHT
BEGIN:STANDARD
TZOFFSETFROM:+0200
TZOFFSETTO:+0100
TZNAME:CET
DTSTART:20231029T010000
END:STANDARD
BEGIN:DAYLIGHT
TZOFFSETFROM:+0100
TZOFFSETTO:+0200
TZNAME:CEST
DTSTART:20240331T010000
END:DAYLIGHT
BEGIN:STANDARD
TZOFFSETFROM:+0200
TZOFFSETTO:+0100
TZNAME:CET
DTSTART:20241027T010000
END:STANDARD
END:VTIMEZONE
BEGIN:VEVENT
DTSTART;VALUE=DATE:20231119
DTEND;VALUE=DATE:20231120
DTSTAMP:20260420T071055
CREATED:20231104T090939Z
LAST-MODIFIED:20231104T090939Z
UID:4690-1700352000-1700438399@www.echecsbfc.fr
SUMMARY:Interclubs Jeunes
DESCRIPTION:
URL:https://www.echecsbfc.fr/agenda/interclubs-jeunes/
CATEGORIES:Championnats Jeunes
END:VEVENT
END:VCALENDAR