BEGIN:VCALENDAR
VERSION:2.0
PRODID:-//Ligue de Bourgogne-Franche-Comté des Échecs - ECPv6.15.20//NONSGML v1.0//EN
CALSCALE:GREGORIAN
METHOD:PUBLISH
X-ORIGINAL-URL:https://www.echecsbfc.fr
X-WR-CALDESC:Évènements pour Ligue de Bourgogne-Franche-Comté des Échecs
REFRESH-INTERVAL;VALUE=DURATION:PT1H
X-Robots-Tag:noindex
X-PUBLISHED-TTL:PT1H
BEGIN:VTIMEZONE
TZID:Europe/Paris
BEGIN:DAYLIGHT
TZOFFSETFROM:+0100
TZOFFSETTO:+0200
TZNAME:CEST
DTSTART:20160327T010000
END:DAYLIGHT
BEGIN:STANDARD
TZOFFSETFROM:+0200
TZOFFSETTO:+0100
TZNAME:CET
DTSTART:20161030T010000
END:STANDARD
BEGIN:DAYLIGHT
TZOFFSETFROM:+0100
TZOFFSETTO:+0200
TZNAME:CEST
DTSTART:20170326T010000
END:DAYLIGHT
BEGIN:STANDARD
TZOFFSETFROM:+0200
TZOFFSETTO:+0100
TZNAME:CET
DTSTART:20171029T010000
END:STANDARD
BEGIN:DAYLIGHT
TZOFFSETFROM:+0100
TZOFFSETTO:+0200
TZNAME:CEST
DTSTART:20180325T010000
END:DAYLIGHT
BEGIN:STANDARD
TZOFFSETFROM:+0200
TZOFFSETTO:+0100
TZNAME:CET
DTSTART:20181028T010000
END:STANDARD
END:VTIMEZONE
BEGIN:VEVENT
DTSTART;VALUE=DATE:20170212
DTEND;VALUE=DATE:20170213
DTSTAMP:20260421T110054
CREATED:20161230T142224Z
LAST-MODIFIED:20170121T194251Z
UID:206-1486857600-1486943999@www.echecsbfc.fr
SUMMARY:Nationale 2 féminines Franche-Comté 2016/2017
DESCRIPTION:La phase interdépartementale de nationale 2 féminine pour la Franche-Comté se jouera le 12 février à Besançon. \nLa date limite des inscriptions est fixée 2 février. \n\nInscription N2F \nAffiche N2F
URL:https://www.echecsbfc.fr/agenda/nationale-2-feminines-franche-comte-20162017/
LOCATION:Salle de jeu TPG (Billard L’Olympe)\, 4 Rue des Chalets\, Besançon\, Besançon\, France
CATEGORIES:Interclubs
END:VEVENT
END:VCALENDAR