BEGIN:VCALENDAR
VERSION:2.0
PRODID:-//Ligue de Bourgogne-Franche-Comté des Échecs - ECPv6.15.20//NONSGML v1.0//EN
CALSCALE:GREGORIAN
METHOD:PUBLISH
X-ORIGINAL-URL:https://www.echecsbfc.fr
X-WR-CALDESC:Évènements pour Ligue de Bourgogne-Franche-Comté des Échecs
REFRESH-INTERVAL;VALUE=DURATION:PT1H
X-Robots-Tag:noindex
X-PUBLISHED-TTL:PT1H
BEGIN:VTIMEZONE
TZID:Europe/Paris
BEGIN:DAYLIGHT
TZOFFSETFROM:+0100
TZOFFSETTO:+0200
TZNAME:CEST
DTSTART:20160327T010000
END:DAYLIGHT
BEGIN:STANDARD
TZOFFSETFROM:+0200
TZOFFSETTO:+0100
TZNAME:CET
DTSTART:20161030T010000
END:STANDARD
BEGIN:DAYLIGHT
TZOFFSETFROM:+0100
TZOFFSETTO:+0200
TZNAME:CEST
DTSTART:20170326T010000
END:DAYLIGHT
BEGIN:STANDARD
TZOFFSETFROM:+0200
TZOFFSETTO:+0100
TZNAME:CET
DTSTART:20171029T010000
END:STANDARD
BEGIN:DAYLIGHT
TZOFFSETFROM:+0100
TZOFFSETTO:+0200
TZNAME:CEST
DTSTART:20180325T010000
END:DAYLIGHT
BEGIN:STANDARD
TZOFFSETFROM:+0200
TZOFFSETTO:+0100
TZNAME:CET
DTSTART:20181028T010000
END:STANDARD
END:VTIMEZONE
BEGIN:VEVENT
DTSTART;VALUE=DATE:20170225
DTEND;VALUE=DATE:20170227
DTSTAMP:20260424T201807
CREATED:20161226T172456Z
LAST-MODIFIED:20161226T173545Z
UID:131-1487980800-1488153599@www.echecsbfc.fr
SUMMARY:26 ème open de Geugnon
DESCRIPTION:Compte pour le classement FIDE\nRéservé aux – de 2200 élo\n1000 euros de prix si 50 inscrits\n1er prix: 300 € – Prix par catégories –\nInsc.: 24 €/12 € (30 €/15 € après le 13/02)\nInscription 9H-9H45 1ère ronde à 10H.\nRenseignements et inscriptions: M. et Mme MANGONE Guiseppe tél : 03-85-53-85-24\nLa Chaux 71160 LES GUERREAUX edith.pelle.mangone@gmail.com\nPatrick Lauferon 06-45-49-98-25 patrick.lauferon@gmail.com \nAffiche 26ème open de Gueugnon 2017
URL:https://www.echecsbfc.fr/agenda/26-eme-open-de-geugnon/
LOCATION:Château d’Aux\, 17 rue Jean Bouveri\, Gueugnon\, 71130\, France
CATEGORIES:Open rapide
ORGANIZER;CN="Gueugnon %C3%89checs":MAILTO:Compte pour le classement FIDE Réservé aux – de 2200 élo 1000 euros de prix si 50 inscrits 1er prix: 300 € - Prix par catégories - Insc.: 24 €/12 € (30 €/15 € après le 13/02) Inscription 9H-9H45 1ère ronde à 10H. Renseignements et inscriptions: M. et Mme MANGONE Guiseppe tél : 03-85-53-85-24 La Chaux 71160 LES GUERREAUX edith.pelle.mangone@gmail.com Patrick Lauferon 06-45-49-98-25 patrick.lauferon@gmail.com
END:VEVENT
END:VCALENDAR